Workbook
Name Z_8991EC95_33C8_4B42_A911_A1963F7C7C1B_.wvu.PrintArea: 'A. HTT General'!$A$1:$G$331
Name Z_8991EC95_33C8_4B42_A911_A1963F7C7C1B_.wvu.PrintArea: 'B1. HTT Mortgage Assets'!$A$1:$G$341
Name Z_8991EC95_33C8_4B42_A911_A1963F7C7C1B_.wvu.PrintArea: 'C. HTT Harmonised Glossary'!$A$1:$C$37
Name Z_8991EC95_33C8_4B42_A911_A1963F7C7C1B_.wvu.PrintArea: Introduction!$B$2:$J$39

Sheet Introduction
F5: Harmonised Transparency Template
E6: 2022 Version
F7: Polska
F8: ING Bank Hipoteczny Spółka Akcyjna
F9: Reporting Date: 12/02/24
F10: Cut-off Date: 31/12/23
F22: Index
D24: Worksheet A: HTT General | E24: Tab 1: Harmonised Transparency Template
D26: Worksheet B1: HTT Mortgage Assets
D28: Worksheet B2: HTT Public Sector Assets | E28: Tab 1: Harmonised Transparency Template
D30: Worksheet B3: HTT Shipping Assets | E30: Tab 1: Harmonised Transparency Template
D32: Worksheet C: HTT Harmonised Glossary | E32: Tab 1: Harmonised Transparency Template
D34: Covered Bond Label Disclaimer | E34: Tab 1: Harmonised Transparency Template
D36: Worksheet D & Onwards (If Any): National Transparency Template
D38: Worksheet E: Optional ECB-ECAIs data
D40: Worksheet F1: Optional Sustainable M data | E40: Tab 1: Harmonised Transparency Template
D42: Temp. Optional COVID 19 impact

Sheet A. HTT General
A1: A. Harmonised Transparency Template - General Information
B3: Reporting in Domestic Currency | C3: PLN
B5: CONTENT OF TAB A
B6: 1. Basic Facts
B7: 2. Regulatory Summary
B8: 3. General Cover Pool / Covered Bond Information | F8: `
B9: 4. References to Capital Requirements Regulation (CRR) 129(7)
B10: 5. References to Capital Requirements Regulation (CRR) 129(1)
B11: 6. Other relevant information
A13: Field Number | B13: 1. Basic Facts | I13: 1. Basic Facts | J13: =B13=I13 -> TRUE
A14: G.1.1.1 | B14: Country | C14: Polska | I14: Country | J14: =B14=I14 -> TRUE
A15: G.1.1.2 | B15: Issuer Name | C15: ING Bank Hipoteczny Spółka Akcyjna | I15: Issuer Name | J15: =B15=I15 -> TRUE
A16: G.1.1.3 | B16: Link to Issuer's Website | C16: https://www.inghipoteczny.pl/ | I16: Labelled Cover Pool Name | J16: =B16=I16 -> FALSE
A17: G.1.1.4 | B17: Cut-off date | C17: 31/12/23 | I17: Link to Issuer's Website | J17: =I17=B16 -> TRUE
A18: OG.1.1.1 | B18: Optional information e.g. Contact names | I18: Cut-off date | J18: =I18=B17 -> TRUE
A19: OG.1.1.2 | B19: Optional information e.g. Parent name | I19: Optional information e.g. Contact names | J19: =I19=B18 -> TRUE
A20: OG.1.1.3 | I20: Optional information e.g. Parent name | J20: =I20=B19 -> TRUE
A21: OG.1.1.4 | J21: =I21=B20 -> TRUE
A22: OG.1.1.5
A23: OG.1.1.6
A24: OG.1.1.7
A25: OG.1.1.8
B26: 2. Regulatory Summary | I26: 2. Regulatory Summary | J26: =I26=B26 -> TRUE
A27: G.2.1.1 | B27: UCITS Compliance (Y/N) | C27: Y | I27: Basel Compliance, subject to national jursdiction (Y/N) | J27: =I27=B27 -> FALSE
A28: G.2.1.2 | B28: CRR Compliance (Y/N) | C28: Y | I28: CBD Compliance | J28: =I28=B28 -> FALSE
A29: G.2.1.3 | B29: Solvency II compliance | C29: Yes | I29: CRR Compliance (Y/N) | J29: =I29=B28 -> TRUE
A30: OG.2.1.1 | I30: LCR status | J30: =I30=B29 -> FALSE
A31: OG.2.1.2
A32: OG.2.1.3
A33: OG.2.1.4
A34: OG.2.1.5
A35: OG.2.1.6
B36: 3. General Cover Pool / Covered Bond Information | I36: 3. General Cover Pool / Covered Bond Information
B37: 1.General Information | C37: Nominal (mn) | I37: 1.General Information
A38: G.3.1.1 | B38: Total Cover Assets | C38: =C58 -> 2421.7024 | I38: Total Cover Assets
A39: G.3.1.2 | B39: Outstanding Covered Bonds | C39: 400 | I39: Outstanding Covered Bonds
A40: OG.3.1.1 | B40: Cover Pool Size [NPV] (mn) | C40: ND1 | I40: Cover Pool Size [NPV] (mn)
A41: OG.3.1.2 | B41: Outstanding Covered Bonds [NPV] (mn) | C41: ND1 | I41: Outstanding Covered Bonds [NPV] (mn)
A42: OG.3.1.3
A43: OG.3.1.4
...

Sheet B1. HTT Mortgage Assets
A1: B1. Harmonised Transparency Template - Mortgage Assets
B3: Reporting in Domestic Currency | C3: PLN
B5: CONTENT OF TAB B1
B6: 7. Mortgage Assets
B7: 7.A Residential Cover Pool
B8: 7.B Commercial Cover Pool
A10: Field Number | B10: 7. Mortgage Assets
B11: 1. Property Type Information | C11: Nominal (mn) | F11: % Total Mortgages
A12: M.7.1.1 | B12: Residential | C12: 2391.7024 | F12: =IF($C$15=0,"",IF(C12="[for completion]","",C12/$C$15)) -> 1
A13: M.7.1.2 | B13: Commercial | C13: 0 | F13: =IF($C$15=0,"",IF(C13="[for completion]","",C13/$C$15)) -> 0
A14: M.7.1.3 | B14: Other | C14: 0 | F14: =IF($C$15=0,"",IF(C14="[for completion]","",C14/$C$15)) -> 0
A15: M.7.1.4 | B15: Total | C15: =SUM(C12:C14) -> 2391.7024 | F15: =SUM(F12:F14) -> 1
A16: OM.7.1.1 | B16: o/w Housing Cooperatives / Multi-family assets | F16: =IF($C$15=0,"",IF(C16="","",C16/$C$15))
A17: OM.7.1.2 | B17: o/w Forest & Agriculture | F17: =IF($C$15=0,"",IF(C17="","",C17/$C$15))
A18: OM.7.1.3 | B18: o/w [If relevant, please specify] | F18: =IF($C$15=0,"",IF(C18="","",C18/$C$15))
A19: OM.7.1.4 | B19: o/w [If relevant, please specify] | F19: =IF($C$15=0,"",IF(C19="","",C19/$C$15))
A20: OM.7.1.5 | B20: o/w [If relevant, please specify] | F20: =IF($C$15=0,"",IF(C20="","",C20/$C$15))
A21: OM.7.1.6 | B21: o/w [If relevant, please specify] | F21: =IF($C$15=0,"",IF(C21="","",C21/$C$15))
A22: OM.7.1.7 | B22: o/w [If relevant, please specify] | F22: =IF($C$15=0,"",IF(C22="","",C22/$C$15))
A23: OM.7.1.8 | B23: o/w [If relevant, please specify] | F23: =IF($C$15=0,"",IF(C23="","",C23/$C$15))
A24: OM.7.1.9 | B24: o/w [If relevant, please specify] | F24: =IF($C$15=0,"",IF(C24="","",C24/$C$15))
A25: OM.7.1.10 | B25: o/w [If relevant, please specify] | F25: =IF($C$15=0,"",IF(C25="","",C25/$C$15))
A26: OM.7.1.11 | B26: o/w [If relevant, please specify] | F26: =IF($C$15=0,"",IF(C26="","",C26/$C$15))
B27: 2. General Information | C27: Residential Loans | D27: Commercial Loans | F27: Total Mortgages
A28: M.7.2.1 | B28: Number of mortgage loans | C28: 14833 | F28: 14833
A29: OM.7.2.1 | B29: Optional information eg, Number of borrowers | C29: 25333 | F29: =SUM(C29:D29) -> 25333
A30: OM.7.2.2 | B30: Optional information eg, Number of guarantors
A31: OM.7.2.3
A32: OM.7.2.4
A33: OM.7.2.5
A34: OM.7.2.6
B35: 3. Concentration Risks | C35: % Residential Loans | D35: % Commercial Loans | F35: % Total Mortgages
A36: M.7.3.1 | B36: 10 largest exposures | C36: =6.71786481/C12 -> 0.0028088214 | D36: 0 | F36: =6.71786481/(C12+C13+C14) -> 0.0028088214
A37: OM.7.3.1
A38: OM.7.3.2
A39: OM.7.3.3
A40: OM.7.3.4
A41: OM.7.3.5
A42: OM.7.3.6
B43: 4. Breakdown by Geography | C43: % Residential Loans | D43: % Commercial Loans | F43: % Total Mortgages
...

Sheet C. HTT Harmonised Glossary
A1: C. Harmonised Transparency Template - Glossary
A3: The definitions below reflect the national specificities
A5: Field Number | B5: 1. Glossary - Standard Harmonised Items | C5: [Insert Definition Below]
A6: HG.1.1 | B6: OC Calculation: Actual | C6: [For completion]
A7: HG.1.2 | B7: OC Calculation: Legal minimum | C7: [For completion]
A8: HG.1.3 | B8: OC Calculation: Committed | C8: [For completion]
A9: HG.1.4 | B9: Interest Rate Types | C9: [For completion]
A10: HG.1.5 | B10: Residual Life Buckets of Cover assets [i.e. how is the contractual and/or expected residual life defined? What assumptions eg, in terms of prepayments? etc.] | C10: [For completion]
A11: HG.1.6 | B11: Maturity Buckets of Covered Bonds [i.e. how is the contractual and/or expected maturity defined? What maturity structure (hard bullet, soft bullet, conditional pass through)? Under what conditions/circumstances? Etc.] | C11: [For completion]
A12: HG.1.7 | B12: LTVs: Definition | C12: [For completion]
A13: HG.1.8 | B13: LTVs: Calculation of property/shipping value
A14: HG.1.9 | B14: LTVs: Applied property/shipping valuation techniques, including whether use of index, Automated Valuation Model (AVM) or on-site audits
A15: HG.1.10 | B15: LTVs: Frequency and time of last valuation
A16: HG.1.11 | B16: Explain how mortgage types are defined whether for residential housing, multi-family housing, commercial real estate, etc. Same for shipping where relecvant | C16: [For completion]
A17: HG.1.12 | B17: Hedging Strategy (please explain how you address interest rate and currency risk) | C17: [For completion]
A18: HG.1.13 | B18: Non-performing loans | C18: [For completion]
A19: OHG.1.1 | B19: NPV assumptions (when stated)
A20: OHG.1.2
A21: OHG.1.3
A22: OHG.1.4
A23: OHG.1.5
B24: 2. Reason for No Data | C24: Value
A25: HG.2.1 | B25: Not applicable for the jurisdiction | C25: ND1
A26: HG.2.2 | B26: Not relevant for the issuer and/or CB programme at the present time | C26: ND2
A27: HG.2.3 | B27: Not available at the present time | C27: ND3
A28: HG.2.1
A29: OHG.2.1
A30: OHG.2.2
B31: 3. Glossary - Extra national and/or Issuer Items | C31: [Insert Definition Below]
A32: HG.3.1 | B32: Other definitions deemed relevant | C32: [For completion]
A33: OHG.3.1
A34: OHG.3.2
A35: OHG.3.3
A36: OHG.3.4
A37: OHG.3.5

Sheet E. Optional ECB-ECAIs data
A1: This addendum is optional
A2: E. Harmonised Transparency Template - Optional ECB - ECAIs Data Disclosure | F2: HTT 2022
B4: Reporting in Domestic Currency | C4: [Please insert currency] | I4: Reason for No Data in Worksheet E. | J4: Value
I5: Not applicable for the jurisdiction | J5: ND1
B6: CONTENT OF TAB E | I6: Not relevant for the issuer and/or CB programme at the present time | J6: ND2
B7: 1. Additional information on the programme | I7: Not available at the present time | J7: ND3
B8: 2. Additional information on the swaps | I8: Confidential | J8: ND4
B9: 3. Additional information on the asset distribution
I10: * Legal Entity Identifier (LEI) finder: http://www.lei-lookup.com/#!search
I11: ** Weighted Average Maturity = Remaining Term to Maturity
A12: Field Number | B12: 1. Additional information on the programme
B13: Transaction Counterparties | C13: Name | D13: Legal Entity Identifier (LEI)*
A14: E.1.1.1 | B14: Sponsor (if applicable) | C14: Example Bank | D14: Example Bank
A15: E.1.1.2 | B15: Servicer | C15: [For completion] | D15: [For completion]
A16: E.1.1.3 | B16: Back-up servicer | C16: [For completion] | D16: [For completion]
A17: E.1.1.4 | B17: BUS facilitator | C17: [For completion] | D17: [For completion]
A18: E.1.1.5 | B18: Cash manager | C18: [For completion] | D18: [For completion]
A19: E.1.1.6 | B19: Back-up cash manager | C19: [For completion] | D19: [For completion]
A20: E.1.1.7 | B20: Account bank | C20: [For completion] | D20: [For completion]
A21: E.1.1.8 | B21: Standby account bank | C21: [For completion] | D21: [For completion]
A22: E.1.1.9 | B22: Account bank guarantor | C22: [For completion] | D22: [For completion]
A23: E.1.1.10 | B23: Trustee | C23: [For completion] | D23: [For completion]
A24: E.1.1.11 | B24: Cover Pool Monitor | C24: [For completion] | D24: [For completion]
A25: OE.1.1.1 | B25: where applicable - paying agent | C25: [For completion] | D25: [For completion]
A26: OE.1.1.2
A27: OE.1.1.3
A28: OE.1.1.4
A29: OE.1.1.5
A30: OE.1.1.6
A31: OE.1.1.7
A32: OE.1.1.8
B33: 2. Additional information on the swaps
B34: Swap Counterparties | C34: Guarantor (if applicable) | D34: Legal Entity Identifier (LEI)* | E34: Type of Swap
A35: E.2.1.1 | B35: Example Bank | C35: Example Guarantor | D35: Example Bank(LEI) | E35: FX
A36: E.2.1.2 | B36: Counterparty 2 | C36: [For completion] | D36: [For completion] | E36: [For completion]
A37: E.2.1.3 | B37: Counterparty 3 | C37: [For completion] | D37: [For completion] | E37: [For completion]
A38: E.2.1.4 | B38: Counterparty 4 | C38: [For completion] | D38: [For completion] | E38: [For completion]
A39: E.2.1.5 | B39: Counterparty 5 | C39: [For completion] | D39: [For completion] | E39: [For completion]
A40: E.2.1.6 | B40: Counterparty 6 | C40: [For completion] | D40: [For completion] | E40: [For completion]
A41: E.2.1.7 | B41: Counterparty 7 | C41: [For completion] | D41: [For completion] | E41: [For completion]
...

Sheet F1. Optional Sustainable M data
A1: This addendum is optional
A2: F1. Harmonised Transparency Template - Optional Sustainable Mortgage Data | F2: HTT 2022
B4: Reporting in Domestic Currency | C4: [Please insert currency]
B6: CONTENT OF TAB F1
B7: 1. Share of sustainable loans in the total mortgage program
B8: 2. Additional information on the sustainable section of the mortgage stock
B9: 2A. Sustainable Residential Cover Pool
B10: 2B. Sustainable Commercial Cover Pool
B14: 1. Share of sustainable loans in the total mortgage program
B15: 1. Amount of sustainable loans | C15: Nominal (mn) | D15: Number of loans | F15: % Nominal (mn) to total mortgage program | G15: % No. of Loans to total mortgage program
A16: SM.1.1.1 | B16: EE mortgage loans | C16: [For completion] | D16: [For completion]
A17: SM.1.1.2 | B17: Social impact mortgage loans | C17: [For completion] | D17: [For completion]
A18: SM.1.1.3 | B18: other | C18: [For completion] | D18: [For completion]
A19: SM.1.1.4 | B19: Total sustainable mortgage loans | C19: =SUM(C16:C18) -> 0 | D19: =SUM(D16:D18) -> 0 | F19: =SUM(F16:F18) -> 0 | G19: =SUM(G16:G18) -> 0
A20: OSM.1.1.1 | B20: o/w [If relevant, please specify]
A21: OSM.1.1.2 | B21: o/w [If relevant, please specify]
A22: OSM.1.1.3 | B22: o/w [If relevant, please specify]
A23: OSM.1.1.4 | B23: o/w [If relevant, please specify]
A24: OSM.1.1.5 | B24: o/w [If relevant, please specify]
B25: 2. Additional information on the sustainable section of the mortgage stock
B26: 1. Sustainable Property Type Information | C26: Nominal (mn) | F26: % Total sustainable Mortgages
A27: SM.2.1.1 | B27: Residential | C27: [For completion] | F27: =IF($C$30=0,"",IF(C27="[For completion]","",C27/$C$30))
A28: SM.2.1.2 | B28: Commercial | C28: [For completion] | F28: =IF($C$30=0,"",IF(C28="[For completion]","",C28/$C$30))
A29: SM.2.1.3 | B29: Other | C29: [For completion] | F29: =IF($C$30=0,"",IF(C29="[For completion]","",C29/$C$30))
A30: SM.2.1.4 | B30: Total | C30: =SUM(C27:C29) -> 0 | F30: =SUM(F27:F29) -> 0
A31: OSM.2.1.1 | B31: o/w Forest & Agriculture | F31: =IF($C$30=0,"",IF(C31="[For completion]","",C31/$C$30))
A32: OSM.2.1.2 | B32: o/w EE residential | F32: =IF($C$30=0,"",IF(C32="[For completion]","",C32/$C$30))
A33: OSM.2.1.3 | B33: o/w EE commercial | F33: =IF($C$30=0,"",IF(C33="[For completion]","",C33/$C$30))
A34: OSM.2.1.4 | B34: o/w EE other | F34: =IF($C$30=0,"",IF(C34="[For completion]","",C34/$C$30))
A35: OSM.2.1.5 | B35: EE total | F35: =IF($C$30=0,"",IF(C35="[For completion]","",C35/$C$30))
A36: OSM.2.1.6 | B36: o/w Social residential | F36: =IF($C$30=0,"",IF(C36="[For completion]","",C36/$C$30))
A37: OSM.2.1.7 | B37: o/wSocial Commercial | F37: =IF($C$30=0,"",IF(C37="[For completion]","",C37/$C$30))
A38: OSM.2.1.8 | B38: o/w social other | F38: =IF($C$30=0,"",IF(C38="[For completion]","",C38/$C$30))
A39: OSM.2.1.9 | B39: social tot | F39: =IF($C$30=0,"",IF(C39="[For completion]","",C39/$C$30))
A40: OSM.2.1.10 | B40: o/w [If relevant, please specify]
A41: OSM.2.1.11 | B41: o/w [If relevant, please specify]
A42: OSM.2.1.12 | B42: o/w [If relevant, please specify]
A43: OSM.2.1.13 | B43: o/w [If relevant, please specify]
A44: OSM.2.1.14 | B44: o/w [If relevant, please specify]
A45: OSM.2.1.15 | B45: o/w [If relevant, please specify]
...
